BEGIN:VCALENDAR
VERSION:2.0
CALSCALE:GREGORIAN
PRODID:-//Diputació de Barcelona//DibaCMS//EN
BEGIN:VEVENT
UID:24617
DTSTAMP:20260423T150336
DTSTART:20221216T173000
DTEND:20221216T173000
SUMMARY:Nadal 2022. Concert de violoncels, Nadales d’ara i sempre
LOCATION:Buenos Aires, 16 08140 Caldes de Montbui
METHOD:PUBLISH
X-WR-CALNAME:caldesm@caldesdemontbui.cat
X-WR-TIMEZONE:Europe/Madrid
DESCRIPTION:
URI:https://www.caldesdemontbui.cat/actualitat/agenda/nadal-2022-concert-de-violoncels-nadales-dara-i-sempre.html
CLASS:PUBLIC
END:VEVENT
END:VCALENDAR
