BEGIN:VCALENDAR
VERSION:2.0
CALSCALE:GREGORIAN
PRODID:-//Diputació de Barcelona//DibaCMS//EN
BEGIN:VEVENT
UID:24616
DTSTAMP:20260423T215153
DTSTART:20221216T200000
DTEND:20221216T200000
SUMMARY:Nadal 2022. Escola de Castells
LOCATION:
METHOD:PUBLISH
X-WR-CALNAME:caldesm@caldesdemontbui.cat
X-WR-TIMEZONE:Europe/Madrid
DESCRIPTION:
URI:https://www.caldesdemontbui.cat/actualitat/agenda/nadal-2022-escola-de-castells.html
CLASS:PUBLIC
END:VEVENT
END:VCALENDAR
