BEGIN:VCALENDAR
VERSION:2.0
CALSCALE:GREGORIAN
PRODID:-//Diputació de Barcelona//DibaCMS//EN
BEGIN:VEVENT
UID:24586
DTSTAMP:20260423T113935
DTSTART:20221207T100000
DTEND:20221207T200000
SUMMARY:Mercat de Nadal  
LOCATION:
METHOD:PUBLISH
X-WR-CALNAME:caldesm@caldesdemontbui.cat
X-WR-TIMEZONE:Europe/Madrid
DESCRIPTION:
URI:https://www.caldesdemontbui.cat/actualitat/agenda/24586-mercat-de-nadal-.html
CLASS:PUBLIC
END:VEVENT
END:VCALENDAR
