BEGIN:VCALENDAR
VERSION:2.0
CALSCALE:GREGORIAN
PRODID:-//Diputació de Barcelona//DibaCMS//EN
BEGIN:VEVENT
UID:24581
DTSTAMP:20260423T182807
DTSTART:20221214T153000
DTEND:20221214T163000
SUMMARY:Curs «El nou règim d’autònoms 2023». Formació en línia
LOCATION:
METHOD:PUBLISH
X-WR-CALNAME:caldesm@caldesdemontbui.cat
X-WR-TIMEZONE:Europe/Madrid
DESCRIPTION:
URI:https://www.caldesdemontbui.cat/actualitat/agenda/curs-el-nou-regim-dautonoms-2023-formacio-en-linia.html
CLASS:PUBLIC
END:VEVENT
END:VCALENDAR
