BEGIN:VCALENDAR
VERSION:2.0
CALSCALE:GREGORIAN
PRODID:-//Diputació de Barcelona//DibaCMS//EN
BEGIN:VEVENT
UID:24567
DTSTAMP:20260423T133632
DTSTART:20221202T180000
DTEND:20221202T180000
SUMMARY:Encesa de l'arbre de Nadal
LOCATION:
METHOD:PUBLISH
X-WR-CALNAME:caldesm@caldesdemontbui.cat
X-WR-TIMEZONE:Europe/Madrid
DESCRIPTION:
URI:https://www.caldesdemontbui.cat/actualitat/agenda/24567-encesa-de-larbre-de-nadal.html
CLASS:PUBLIC
END:VEVENT
END:VCALENDAR
