BEGIN:VCALENDAR
VERSION:2.0
CALSCALE:GREGORIAN
PRODID:-//Diputació de Barcelona//DibaCMS//EN
BEGIN:VEVENT
UID:24566
DTSTAMP:20260423T153806
DTSTART:20221202T180000
DTEND:20221202T180000
SUMMARY:Taula rodona “Vivències de la Covid-19”
LOCATION:Santa Teresa, 3-5 08140 Caldes de Montbui
METHOD:PUBLISH
X-WR-CALNAME:caldesm@caldesdemontbui.cat
X-WR-TIMEZONE:Europe/Madrid
DESCRIPTION:
URI:https://www.caldesdemontbui.cat/actualitat/agenda/taula-rodona-vivencies-de-la-covid-19.html
CLASS:PUBLIC
END:VEVENT
END:VCALENDAR
