BEGIN:VCALENDAR
VERSION:2.0
CALSCALE:GREGORIAN
PRODID:-//Diputació de Barcelona//DibaCMS//EN
BEGIN:VEVENT
UID:24564
DTSTAMP:20260423T132117
DTSTART:20221214T183000
DTEND:20221214T183000
SUMMARY:Sessió de retorn del procés participatiu per a la transformació de Pi i Margall
LOCATION:C. Mestre Gregori Montserrat, 4 08140 Caldes de Montbui
METHOD:PUBLISH
X-WR-CALNAME:caldesm@caldesdemontbui.cat
X-WR-TIMEZONE:Europe/Madrid
DESCRIPTION:
URI:https://www.caldesdemontbui.cat/actualitat/agenda/sessio-de-retorn-del-proces-participatiu-per-a-la-transformacio-de-pi-i-margall.html
CLASS:PUBLIC
END:VEVENT
END:VCALENDAR
