BEGIN:VCALENDAR
VERSION:2.0
CALSCALE:GREGORIAN
PRODID:-//Diputació de Barcelona//DibaCMS//EN
BEGIN:VEVENT
UID:24562
DTSTAMP:20260423T133240
DTSTART:20221203T183000
DTEND:20221203T183000
SUMMARY:Espectacle solidari de màgia “Un Nadal amb el Mag Lari”
LOCATION:
METHOD:PUBLISH
X-WR-CALNAME:caldesm@caldesdemontbui.cat
X-WR-TIMEZONE:Europe/Madrid
DESCRIPTION:
URI:https://www.caldesdemontbui.cat/actualitat/agenda/espectacle-solidari-de-magia-un-nadal-amb-el-mag-lari.html
CLASS:PUBLIC
END:VEVENT
END:VCALENDAR
