BEGIN:VCALENDAR
VERSION:2.0
CALSCALE:GREGORIAN
PRODID:-//Diputació de Barcelona//DibaCMS//EN
BEGIN:VEVENT
UID:24554
DTSTAMP:20260423T153435
DTSTART:20221127T060000
DTEND:20221127T060000
SUMMARY:2a etapa del GR-150, Circuit del Cadí. Entre Fórnols i la Seu d'urgell
LOCATION:
METHOD:PUBLISH
X-WR-CALNAME:caldesm@caldesdemontbui.cat
X-WR-TIMEZONE:Europe/Madrid
DESCRIPTION:
URI:https://www.caldesdemontbui.cat/actualitat/agenda/2a-etapa-del-gr-150-circuit-del-cadi-entre-fornols-i-la-seu-durgell.html
CLASS:PUBLIC
END:VEVENT
END:VCALENDAR
