BEGIN:VCALENDAR
VERSION:2.0
CALSCALE:GREGORIAN
PRODID:-//Diputació de Barcelona//DibaCMS//EN
BEGIN:VEVENT
UID:24553
DTSTAMP:20260423T102454
DTSTART:20221218T190000
DTEND:20221218T190000
SUMMARY:Nadal 2022. Òpera "Dido&Aeneas" de Henry Purcell
LOCATION:
METHOD:PUBLISH
X-WR-CALNAME:caldesm@caldesdemontbui.cat
X-WR-TIMEZONE:Europe/Madrid
DESCRIPTION:
URI:https://www.caldesdemontbui.cat/actualitat/agenda/nadal-2022-opera-didoandaeneas-de-henry-purcell.html
CLASS:PUBLIC
END:VEVENT
END:VCALENDAR
