BEGIN:VCALENDAR
VERSION:2.0
CALSCALE:GREGORIAN
PRODID:-//Diputació de Barcelona//DibaCMS//EN
BEGIN:VEVENT
UID:24512
DTSTAMP:20260423T120431
DTSTART:20221201T180000
DTEND:20221201T180000
SUMMARY:Taula de Cooperació, Solidaritat, Pau i Drets Humans
LOCATION:C. Mestre Gregori Montserrat, 4 08140 Caldes de Montbui
METHOD:PUBLISH
X-WR-CALNAME:caldesm@caldesdemontbui.cat
X-WR-TIMEZONE:Europe/Madrid
DESCRIPTION:
URI:https://www.caldesdemontbui.cat/actualitat/agenda/24512-taula-de-cooperacio-solidaritat-pau-i-drets-humans.html
CLASS:PUBLIC
END:VEVENT
END:VCALENDAR
