BEGIN:VCALENDAR
VERSION:2.0
CALSCALE:GREGORIAN
PRODID:-//Diputació de Barcelona//DibaCMS//EN
BEGIN:VEVENT
UID:24499
DTSTAMP:20260423T154005
DTSTART:20221129T180000
DTEND:20221129T180000
SUMMARY:Cinefòrum: L'holocaust al cinema. "Ravensbrück, l’infern de les dones de Montse Armengou"
LOCATION:Santa Teresa, 3-5 08140 Caldes de Montbui
METHOD:PUBLISH
X-WR-CALNAME:caldesm@caldesdemontbui.cat
X-WR-TIMEZONE:Europe/Madrid
DESCRIPTION:Cicle d'activitats en col·laboració amb l'Amical de Mauthasen. Xarxa Mai Més

URI:https://www.caldesdemontbui.cat/actualitat/agenda/cineforum-lholocaust-al-cinema-ravensbruck-linfern-de-les-dones-de-montse-armengou.html
CLASS:PUBLIC
END:VEVENT
END:VCALENDAR
