BEGIN:VCALENDAR
VERSION:2.0
CALSCALE:GREGORIAN
PRODID:-//Diputació de Barcelona//DibaCMS//EN
BEGIN:VEVENT
UID:24493
DTSTAMP:20260423T165605
DTSTART:20221125T173000
DTEND:20221125T173000
SUMMARY:25N. Viu el 25N al carrer
LOCATION:
METHOD:PUBLISH
X-WR-CALNAME:caldesm@caldesdemontbui.cat
X-WR-TIMEZONE:Europe/Madrid
DESCRIPTION:
URI:https://www.caldesdemontbui.cat/actualitat/agenda/25n-viu-el-25n-al-carrer.html
CLASS:PUBLIC
END:VEVENT
END:VCALENDAR
