BEGIN:VCALENDAR
VERSION:2.0
CALSCALE:GREGORIAN
PRODID:-//Diputació de Barcelona//DibaCMS//EN
BEGIN:VEVENT
UID:24492
DTSTAMP:20260423T133516
DTSTART:20221125T110000
DTEND:20221125T110000
SUMMARY:25N. Lectura del manifest institucional
LOCATION:
METHOD:PUBLISH
X-WR-CALNAME:caldesm@caldesdemontbui.cat
X-WR-TIMEZONE:Europe/Madrid
DESCRIPTION:
URI:https://www.caldesdemontbui.cat/actualitat/agenda/25n-lectura-del-manifest-institucional.html
CLASS:PUBLIC
END:VEVENT
END:VCALENDAR
