BEGIN:VCALENDAR
VERSION:2.0
CALSCALE:GREGORIAN
PRODID:-//Diputació de Barcelona//DibaCMS//EN
BEGIN:VEVENT
UID:24423
DTSTAMP:20260423T182906
DTSTART:20221022T120000
DTEND:20221022T120000
SUMMARY:Narració de contes per a petits lectors del mes d’octubre. Un conte al sac: Històries de cada dia
LOCATION:Santa Teresa, 3-5 08140 Caldes de Montbui
METHOD:PUBLISH
X-WR-CALNAME:caldesm@caldesdemontbui.cat
X-WR-TIMEZONE:Europe/Madrid
DESCRIPTION: 

 

URI:https://www.caldesdemontbui.cat/actualitat/agenda/narracio-de-contes-per-a-petits-lectors-del-mes-doctubre-un-conte-al-sac-histories-de-cada-dia.html
CLASS:PUBLIC
END:VEVENT
END:VCALENDAR
