BEGIN:VCALENDAR
VERSION:2.0
CALSCALE:GREGORIAN
PRODID:-//Diputació de Barcelona//DibaCMS//EN
BEGIN:VEVENT
UID:24411
DTSTAMP:20260423T171132
DTSTART:20221014T180000
DTEND:20221014T180000
SUMMARY:Exposició de les obres de l’alumnat adult del Taller d’Art Municipal Manolo Hugué, del 7 al 16 d’octubre a la Sala Delger  
LOCATION:Carrer del Forn, 8bis 08140 Caldes de Montbui
METHOD:PUBLISH
X-WR-CALNAME:caldesm@caldesdemontbui.cat
X-WR-TIMEZONE:Europe/Madrid
DESCRIPTION:
URI:https://www.caldesdemontbui.cat/actualitat/agenda/24411-exposicio-de-les-obres-de-lalumnat-adult-del-taller-dart-municipal-manolo-hugue-del-7-al-16-doctubre-a-la-sala-delger-.html
CLASS:PUBLIC
END:VEVENT
END:VCALENDAR
