BEGIN:VCALENDAR
VERSION:2.0
CALSCALE:GREGORIAN
PRODID:-//Diputació de Barcelona//DibaCMS//EN
BEGIN:VEVENT
UID:24408
DTSTAMP:20260423T153301
DTSTART:20221007T180000
DTEND:20221007T180000
SUMMARY:Inauguració de l'exposició «Itineraris col•lectius»
LOCATION:Carrer del Forn, 8bis 08140 Caldes de Montbui
METHOD:PUBLISH
X-WR-CALNAME:caldesm@caldesdemontbui.cat
X-WR-TIMEZONE:Europe/Madrid
DESCRIPTION:
URI:https://www.caldesdemontbui.cat/actualitat/agenda/inauguracio-de-lexposicio-itineraris-collectius.html
CLASS:PUBLIC
END:VEVENT
END:VCALENDAR
