BEGIN:VCALENDAR
VERSION:2.0
CALSCALE:GREGORIAN
PRODID:-//Diputació de Barcelona//DibaCMS//EN
BEGIN:VEVENT
UID:24407
DTSTAMP:20260423T153143
DTSTART:20221010T100000
DTEND:20230205T140000
SUMMARY:Exposició «Persistents. Més enllà de la covid», al Museu Thermalia 
LOCATION:Plaça de la Font del Lleó, 20 08140 Caldes de Montbui
METHOD:PUBLISH
X-WR-CALNAME:caldesm@caldesdemontbui.cat
X-WR-TIMEZONE:Europe/Madrid
DESCRIPTION:
URI:https://www.caldesdemontbui.cat/actualitat/agenda/exposicio-persistents-mes-enlla-de-la-covid-al-museu-thermalia-.html
CLASS:PUBLIC
END:VEVENT
END:VCALENDAR
