BEGIN:VCALENDAR
VERSION:2.0
CALSCALE:GREGORIAN
PRODID:-//Diputació de Barcelona//DibaCMS//EN
BEGIN:VEVENT
UID:24401
DTSTAMP:20260423T172000
DTSTART:20221012T090000
DTEND:20221012T235900
SUMMARY:Festa Major 2022
LOCATION:
METHOD:PUBLISH
X-WR-CALNAME:caldesm@caldesdemontbui.cat
X-WR-TIMEZONE:Europe/Madrid
DESCRIPTION:
URI:https://www.caldesdemontbui.cat/actualitat/agenda/24401-festa-major-2022.html
CLASS:PUBLIC
END:VEVENT
END:VCALENDAR
