BEGIN:VCALENDAR
VERSION:2.0
CALSCALE:GREGORIAN
PRODID:-//Diputació de Barcelona//DibaCMS//EN
BEGIN:VEVENT
UID:24389
DTSTAMP:20260423T215220
DTSTART:20221019T084000
DTEND:20221019T084000
SUMMARY:Caminada al Roure Gros
LOCATION:C. Mestre Gregori Montserrat, 4 08140 Caldes de Montbui
METHOD:PUBLISH
X-WR-CALNAME:caldesm@caldesdemontbui.cat
X-WR-TIMEZONE:Europe/Madrid
DESCRIPTION:
URI:https://www.caldesdemontbui.cat/actualitat/agenda/24389-caminada-al-roure-gros.html
CLASS:PUBLIC
END:VEVENT
END:VCALENDAR
