BEGIN:VCALENDAR
VERSION:2.0
CALSCALE:GREGORIAN
PRODID:-//Diputació de Barcelona//DibaCMS//EN
BEGIN:VEVENT
UID:24388
DTSTAMP:20260423T164824
DTSTART:20221016T103000
DTEND:20221016T103000
SUMMARY:Actuació de les colles de cultura popular
LOCATION:C.Sentmenat, 6 8140 Caldes de Montbui
METHOD:PUBLISH
X-WR-CALNAME:caldesm@caldesdemontbui.cat
X-WR-TIMEZONE:Europe/Madrid
DESCRIPTION:
URI:https://www.caldesdemontbui.cat/actualitat/agenda/actuacio-de-les-colles-de-cultura-popular.html
CLASS:PUBLIC
END:VEVENT
END:VCALENDAR
