BEGIN:VCALENDAR
VERSION:2.0
CALSCALE:GREGORIAN
PRODID:-//Diputació de Barcelona//DibaCMS//EN
BEGIN:VEVENT
UID:24382
DTSTAMP:20260423T183640
DTSTART:20221007T114000
DTEND:20221007T200000
SUMMARY:23a Tómbola de Festa Major
LOCATION:C.Sentmenat, 6 8140 Caldes de Montbui
METHOD:PUBLISH
X-WR-CALNAME:caldesm@caldesdemontbui.cat
X-WR-TIMEZONE:Europe/Madrid
DESCRIPTION:
URI:https://www.caldesdemontbui.cat/actualitat/agenda/23a-tombola-de-festa-major.html
CLASS:PUBLIC
END:VEVENT
END:VCALENDAR
