BEGIN:VCALENDAR
VERSION:2.0
CALSCALE:GREGORIAN
PRODID:-//Diputació de Barcelona//DibaCMS//EN
BEGIN:VEVENT
UID:24381
DTSTAMP:20260423T200820
DTSTART:20221005T074000
DTEND:20221005T074000
SUMMARY:Caminada al Castell de Montbui
LOCATION:
METHOD:PUBLISH
X-WR-CALNAME:caldesm@caldesdemontbui.cat
X-WR-TIMEZONE:Europe/Madrid
DESCRIPTION:
URI:https://www.caldesdemontbui.cat/actualitat/agenda/24381-caminada-al-castell-de-montbui.html
CLASS:PUBLIC
END:VEVENT
END:VCALENDAR
