BEGIN:VCALENDAR
VERSION:2.0
CALSCALE:GREGORIAN
PRODID:-//Diputació de Barcelona//DibaCMS//EN
BEGIN:VEVENT
UID:24372
DTSTAMP:20260423T200007
DTSTART:20221006T180000
DTEND:20221006T200000
SUMMARY:Taller d’alfabetització digital “Connecta’t: gestions en línia amb seguretat”
LOCATION:Santa Teresa, 3-5 08140 Caldes de Montbui
METHOD:PUBLISH
X-WR-CALNAME:caldesm@caldesdemontbui.cat
X-WR-TIMEZONE:Europe/Madrid
DESCRIPTION:
URI:https://www.caldesdemontbui.cat/actualitat/agenda/taller-dalfabetitzacio-digital-connectat-gestions-en-linia-amb-seguretat.html
CLASS:PUBLIC
END:VEVENT
END:VCALENDAR
