BEGIN:VCALENDAR
VERSION:2.0
CALSCALE:GREGORIAN
PRODID:-//Diputació de Barcelona//DibaCMS//EN
BEGIN:VEVENT
UID:24370
DTSTAMP:20260423T203746
DTSTART:20221018T184500
DTEND:20221018T184500
SUMMARY:Mes de la salut mental. Xerrada "Aprèn a desconnectar la teva ment. Rutina de relaxació"
LOCATION:
METHOD:PUBLISH
X-WR-CALNAME:caldesm@caldesdemontbui.cat
X-WR-TIMEZONE:Europe/Madrid
DESCRIPTION:
URI:https://www.caldesdemontbui.cat/actualitat/agenda/mes-de-la-salut-mental-xerrada-apren-a-desconnectar-la-teva-ment-rutina-de-relaxacio.html
CLASS:PUBLIC
END:VEVENT
END:VCALENDAR
