BEGIN:VCALENDAR
VERSION:2.0
CALSCALE:GREGORIAN
PRODID:-//Diputació de Barcelona//DibaCMS//EN
BEGIN:VEVENT
UID:24302
DTSTAMP:20260424T205300
DTSTART:20220918T190000
DTEND:20220918T190000
SUMMARY:Raynald Colom Quartet
LOCATION: Corredossos de Baix, 9-11 (antic 1) 8140 Caldes de Montbui
METHOD:PUBLISH
X-WR-CALNAME:caldesm@caldesdemontbui.cat
X-WR-TIMEZONE:Europe/Madrid
DESCRIPTION:
URI:https://www.caldesdemontbui.cat/actualitat/agenda/raynald-colom-quartet.html
CLASS:PUBLIC
END:VEVENT
END:VCALENDAR
