BEGIN:VCALENDAR
VERSION:2.0
CALSCALE:GREGORIAN
PRODID:-//Diputació de Barcelona//DibaCMS//EN
BEGIN:VEVENT
UID:24300
DTSTAMP:20260423T151546
DTSTART:20220910T190000
DTEND:20220910T190000
SUMMARY:Canta al Cor de l'Òpera. Reunió informativa
LOCATION:C. Mestre Gregori Montserrat, 4 08140 Caldes de Montbui
METHOD:PUBLISH
X-WR-CALNAME:caldesm@caldesdemontbui.cat
X-WR-TIMEZONE:Europe/Madrid
DESCRIPTION:
URI:https://www.caldesdemontbui.cat/actualitat/agenda/canta-al-cor-de-lopera-reunio-informativa.html
CLASS:PUBLIC
END:VEVENT
END:VCALENDAR
