BEGIN:VCALENDAR
VERSION:2.0
CALSCALE:GREGORIAN
PRODID:-//Diputació de Barcelona//DibaCMS//EN
BEGIN:VEVENT
UID:24284
DTSTAMP:20260423T151317
DTSTART:20220911T110000
DTEND:20220911T140000
SUMMARY:Acte institucional de l'11 de Setembre 
LOCATION:Plaça de l'Onze de Setembre 
METHOD:PUBLISH
X-WR-CALNAME:caldesm@caldesdemontbui.cat
X-WR-TIMEZONE:Europe/Madrid
DESCRIPTION:
URI:https://www.caldesdemontbui.cat/actualitat/agenda/acte-institucional-de-l11-de-setembre-.html
CLASS:PUBLIC
END:VEVENT
END:VCALENDAR
