BEGIN:VCALENDAR
VERSION:2.0
CALSCALE:GREGORIAN
PRODID:-//Diputació de Barcelona//DibaCMS//EN
BEGIN:VEVENT
UID:24218
DTSTAMP:20260423T233635
DTSTART:20220715T200000
DTEND:20220715T200000
SUMMARY:Concert solidari "Que tot et vagi bé" de Txarango 
LOCATION:Carrer del Pont, 3 08140 Caldes de Montbui
METHOD:PUBLISH
X-WR-CALNAME:caldesm@caldesdemontbui.cat
X-WR-TIMEZONE:Europe/Madrid
DESCRIPTION:
URI:https://www.caldesdemontbui.cat/actualitat/agenda/concert-solidari-que-tot-et-vagi-be-de-txarango-.html
CLASS:PUBLIC
END:VEVENT
END:VCALENDAR
