BEGIN:VCALENDAR
VERSION:2.0
CALSCALE:GREGORIAN
PRODID:-//Diputació de Barcelona//DibaCMS//EN
BEGIN:VEVENT
UID:24177
DTSTAMP:20260423T201610
DTSTART:20220710T013000
DTEND:20220710T013000
SUMMARY:Escaldàrium 2022. Concert amb allioli
LOCATION:
METHOD:PUBLISH
X-WR-CALNAME:caldesm@caldesdemontbui.cat
X-WR-TIMEZONE:Europe/Madrid
DESCRIPTION:
URI:https://www.caldesdemontbui.cat/actualitat/agenda/escaldarium-2022-concert-amb-allioli.html
CLASS:PUBLIC
END:VEVENT
END:VCALENDAR
