BEGIN:VCALENDAR
VERSION:2.0
CALSCALE:GREGORIAN
PRODID:-//Diputació de Barcelona//DibaCMS//EN
BEGIN:VEVENT
UID:24175
DTSTAMP:20260423T200729
DTSTART:20220709T220000
DTEND:20220709T220000
SUMMARY:Escaldàrium 2022. Concert amb Svart Vin
LOCATION:
METHOD:PUBLISH
X-WR-CALNAME:caldesm@caldesdemontbui.cat
X-WR-TIMEZONE:Europe/Madrid
DESCRIPTION:
URI:https://www.caldesdemontbui.cat/actualitat/agenda/escaldarium-2022-concert-amb-svart-vin.html
CLASS:PUBLIC
END:VEVENT
END:VCALENDAR
