BEGIN:VCALENDAR
VERSION:2.0
CALSCALE:GREGORIAN
PRODID:-//Diputació de Barcelona//DibaCMS//EN
BEGIN:VEVENT
UID:24171
DTSTAMP:20260423T201529
DTSTART:20220709T120000
DTEND:20220709T120000
SUMMARY:Escaldàrium 2022. Escumàrium, festa de l'escuma
LOCATION:
METHOD:PUBLISH
X-WR-CALNAME:caldesm@caldesdemontbui.cat
X-WR-TIMEZONE:Europe/Madrid
DESCRIPTION:
URI:https://www.caldesdemontbui.cat/actualitat/agenda/escaldarium-2022-escumarium-festa-de-lescuma.html
CLASS:PUBLIC
END:VEVENT
END:VCALENDAR
