BEGIN:VCALENDAR
VERSION:2.0
CALSCALE:GREGORIAN
PRODID:-//Diputació de Barcelona//DibaCMS//EN
BEGIN:VEVENT
UID:24160
DTSTAMP:20260424T233521
DTSTART:20220702T190000
DTEND:20220702T190000
SUMMARY:Escaldàrium 2022. Pintateles
LOCATION:
METHOD:PUBLISH
X-WR-CALNAME:caldesm@caldesdemontbui.cat
X-WR-TIMEZONE:Europe/Madrid
DESCRIPTION:
URI:https://www.caldesdemontbui.cat/actualitat/agenda/escaldarium-2022-pintateles.html
CLASS:PUBLIC
END:VEVENT
END:VCALENDAR
