BEGIN:VCALENDAR
VERSION:2.0
CALSCALE:GREGORIAN
PRODID:-//Diputació de Barcelona//DibaCMS//EN
BEGIN:VEVENT
UID:24159
DTSTAMP:20260423T221110
DTSTART:20220702T100000
DTEND:20220702T100000
SUMMARY:Escaldàrium 2022. Taller de fotografia i de correfocs i festes infernals 
LOCATION:Barcelona, 12 08140 Caldes de Montbui
METHOD:PUBLISH
X-WR-CALNAME:caldesm@caldesdemontbui.cat
X-WR-TIMEZONE:Europe/Madrid
DESCRIPTION:
URI:https://www.caldesdemontbui.cat/actualitat/agenda/escaldarium-2022-taller-de-fotografia-i-de-correfocs-i-festes-infernals-.html
CLASS:PUBLIC
END:VEVENT
END:VCALENDAR
