BEGIN:VCALENDAR
VERSION:2.0
CALSCALE:GREGORIAN
PRODID:-//Diputació de Barcelona//DibaCMS//EN
BEGIN:VEVENT
UID:24151
DTSTAMP:20260423T231915
DTSTART:20220710T190000
DTEND:20220710T190000
SUMMARY:Jo Jet i Maria Ribot
LOCATION:Corredossos de Baix, 9-11 08140 Caldes de Montbui
METHOD:PUBLISH
X-WR-CALNAME:caldesm@caldesdemontbui.cat
X-WR-TIMEZONE:Europe/Madrid
DESCRIPTION:
URI:https://www.caldesdemontbui.cat/actualitat/agenda/jo-jet-i-maria-ribot.html
CLASS:PUBLIC
END:VEVENT
END:VCALENDAR
