BEGIN:VCALENDAR
VERSION:2.0
CALSCALE:GREGORIAN
PRODID:-//Diputació de Barcelona//DibaCMS//EN
BEGIN:VEVENT
UID:24149
DTSTAMP:20260423T232838
DTSTART:20220709T183000
DTEND:20220709T183000
SUMMARY:Ruta teatralitzada “Camins de bruixes”
LOCATION:
METHOD:PUBLISH
X-WR-CALNAME:caldesm@caldesdemontbui.cat
X-WR-TIMEZONE:Europe/Madrid
DESCRIPTION:
URI:https://www.caldesdemontbui.cat/actualitat/agenda/24149-ruta-teatralitzada-camins-de-bruixes.html
CLASS:PUBLIC
END:VEVENT
END:VCALENDAR
