BEGIN:VCALENDAR
VERSION:2.0
CALSCALE:GREGORIAN
PRODID:-//Diputació de Barcelona//DibaCMS//EN
BEGIN:VEVENT
UID:24121
DTSTAMP:20260423T233348
DTSTART:20220623T111500
DTEND:20220623T111500
SUMMARY:Reunió informativa de les colònies per a gent gran
LOCATION:C. Mestre Gregori Montserrat, 4 08140 Caldes de Montbui
METHOD:PUBLISH
X-WR-CALNAME:caldesm@caldesdemontbui.cat
X-WR-TIMEZONE:Europe/Madrid
DESCRIPTION:
URI:https://www.caldesdemontbui.cat/actualitat/agenda/reunio-informativa-de-les-colonies-per-a-gent-gran.html
CLASS:PUBLIC
END:VEVENT
END:VCALENDAR
