BEGIN:VCALENDAR
VERSION:2.0
CALSCALE:GREGORIAN
PRODID:-//Diputació de Barcelona//DibaCMS//EN
BEGIN:VEVENT
UID:24092
DTSTAMP:20260423T215245
DTSTART:20220617T193000
DTEND:20220617T203000
SUMMARY:“Tanquem amb ritme” la Biblioteca municipal
LOCATION:Santa Teresa, 3-5 08140 Caldes de Montbui
METHOD:PUBLISH
X-WR-CALNAME:caldesm@caldesdemontbui.cat
X-WR-TIMEZONE:Europe/Madrid
DESCRIPTION:
URI:https://www.caldesdemontbui.cat/actualitat/agenda/24092-tanquem-amb-ritme-la-biblioteca-municipal.html
CLASS:PUBLIC
END:VEVENT
END:VCALENDAR
