BEGIN:VCALENDAR
VERSION:2.0
CALSCALE:GREGORIAN
PRODID:-//Diputació de Barcelona//DibaCMS//EN
BEGIN:VEVENT
UID:24013
DTSTAMP:20260423T214939
DTSTART:20220604T180000
DTEND:20220604T200000
SUMMARY:Exposició de les obres dels alumnes joves del Taller d’Art Municipal del 27 al 29 de maig i del 3 al 5 de juny  
LOCATION:Carrer del Forn, 8bis 08140 Caldes de Montbui
METHOD:PUBLISH
X-WR-CALNAME:caldesm@caldesdemontbui.cat
X-WR-TIMEZONE:Europe/Madrid
DESCRIPTION:
URI:https://www.caldesdemontbui.cat/actualitat/agenda/24013-exposicio-de-les-obres-dels-alumnes-joves-del-taller-dart-municipal-del-27-al-29-de-maig-i-del-3-al-5-de-juny-.html
CLASS:PUBLIC
END:VEVENT
END:VCALENDAR
