BEGIN:VCALENDAR
VERSION:2.0
CALSCALE:GREGORIAN
PRODID:-//Diputació de Barcelona//DibaCMS//EN
BEGIN:VEVENT
UID:23994
DTSTAMP:20260425T012410
DTSTART:20220527T170000
DTEND:20220527T190000
SUMMARY:Inauguració del parc de Rosa Sensat: La gran A...ventura, de Marcel Gros
LOCATION:
METHOD:PUBLISH
X-WR-CALNAME:caldesm@caldesdemontbui.cat
X-WR-TIMEZONE:Europe/Madrid
DESCRIPTION:
URI:https://www.caldesdemontbui.cat/actualitat/agenda/inauguracio-del-parc-de-rosa-sensat-la-gran-aventura-de-marcel-gros.html
CLASS:PUBLIC
END:VEVENT
END:VCALENDAR
