BEGIN:VCALENDAR
VERSION:2.0
CALSCALE:GREGORIAN
PRODID:-//Diputació de Barcelona//DibaCMS//EN
BEGIN:VEVENT
UID:23972
DTSTAMP:20260424T085741
DTSTART:20220521T120000
DTEND:20220521T120000
SUMMARY:Vacances en Pau. Xerrada informativa i visió curtmetratge
LOCATION:C. Mestre Gregori Montserrat, 4 08140 Caldes de Montbui
METHOD:PUBLISH
X-WR-CALNAME:caldesm@caldesdemontbui.cat
X-WR-TIMEZONE:Europe/Madrid
DESCRIPTION:
URI:https://www.caldesdemontbui.cat/actualitat/agenda/vacances-en-pau-xerrada-informativa-i-visio-curtmetratge.html
CLASS:PUBLIC
END:VEVENT
END:VCALENDAR
