BEGIN:VCALENDAR
VERSION:2.0
CALSCALE:GREGORIAN
PRODID:-//Diputació de Barcelona//DibaCMS//EN
BEGIN:VEVENT
UID:23949
DTSTAMP:20260423T215257
DTSTART:20220514T110000
DTEND:20220514T110000
SUMMARY:Agenda d’activitats de l’Escola Municipal de Música Joan Valls del mes de maig
LOCATION:Buenos Aires, 16 08140 Caldes de Montbui
METHOD:PUBLISH
X-WR-CALNAME:caldesm@caldesdemontbui.cat
X-WR-TIMEZONE:Europe/Madrid
DESCRIPTION:Concert d’inici i Tastets

URI:https://www.caldesdemontbui.cat/actualitat/agenda/23949-agenda-dactivitats-de-lescola-municipal-de-musica-joan-valls-del-mes-de-maig.html
CLASS:PUBLIC
END:VEVENT
END:VCALENDAR
