BEGIN:VCALENDAR
VERSION:2.0
CALSCALE:GREGORIAN
PRODID:-//Diputació de Barcelona//DibaCMS//EN
BEGIN:VEVENT
UID:23916
DTSTAMP:20260424T115804
DTSTART:20220505T190000
DTEND:20220505T190000
SUMMARY:Presentació del llibre De un tiempo y un lugar, de J.Manuel Villa Lobos
LOCATION:Santa Teresa, 3-5 08140 Caldes de Montbui
METHOD:PUBLISH
X-WR-CALNAME:caldesm@caldesdemontbui.cat
X-WR-TIMEZONE:Europe/Madrid
DESCRIPTION:
URI:https://www.caldesdemontbui.cat/actualitat/agenda/presentacio-del-llibre-de-un-tiempo-y-un-lugar-de-jmanuel-villa-lobos.html
CLASS:PUBLIC
END:VEVENT
END:VCALENDAR
