BEGIN:VCALENDAR
VERSION:2.0
CALSCALE:GREGORIAN
PRODID:-//Diputació de Barcelona//DibaCMS//EN
BEGIN:VEVENT
UID:23871
DTSTAMP:20260424T004533
DTSTART:20220430T190000
DTEND:20220430T190000
SUMMARY:Sant Jordi 2022. Presentació del llibre «El rastre Nival» d’Àngel Marzo
LOCATION:
METHOD:PUBLISH
X-WR-CALNAME:caldesm@caldesdemontbui.cat
X-WR-TIMEZONE:Europe/Madrid
DESCRIPTION:
URI:https://www.caldesdemontbui.cat/actualitat/agenda/sant-jordi-2022-presentacio-del-llibre-el-rastre-nival-dangel-marzo.html
CLASS:PUBLIC
END:VEVENT
END:VCALENDAR
