BEGIN:VCALENDAR
VERSION:2.0
CALSCALE:GREGORIAN
PRODID:-//Diputació de Barcelona//DibaCMS//EN
BEGIN:VEVENT
UID:23870
DTSTAMP:20260424T010403
DTSTART:20220425T190000
DTEND:20220425T190000
SUMMARY:Sant Jordi 2022. Lectura de poemes
LOCATION:
METHOD:PUBLISH
X-WR-CALNAME:caldesm@caldesdemontbui.cat
X-WR-TIMEZONE:Europe/Madrid
DESCRIPTION:
URI:https://www.caldesdemontbui.cat/actualitat/agenda/sant-jordi-2022-lectura-de-poemes.html
CLASS:PUBLIC
END:VEVENT
END:VCALENDAR
