BEGIN:VCALENDAR
VERSION:2.0
CALSCALE:GREGORIAN
PRODID:-//Diputació de Barcelona//DibaCMS//EN
BEGIN:VEVENT
UID:23826
DTSTAMP:20260424T010330
DTSTART:20220402T120000
DTEND:20220402T120000
SUMMARY:Presentació del llibre "La magia de las mochilas" de Marc Congost
LOCATION: Corredossos de Baix, 9-11 (antic 1) 8140 Caldes de Montbui
METHOD:PUBLISH
X-WR-CALNAME:caldesm@caldesdemontbui.cat
X-WR-TIMEZONE:Europe/Madrid
DESCRIPTION:
URI:https://www.caldesdemontbui.cat/actualitat/agenda/presentacio-del-llibre-la-magia-de-las-mochilas-de-marc-congost.html
CLASS:PUBLIC
END:VEVENT
END:VCALENDAR
