BEGIN:VCALENDAR
VERSION:2.0
CALSCALE:GREGORIAN
PRODID:-//Diputació de Barcelona//DibaCMS//EN
BEGIN:VEVENT
UID:23810
DTSTAMP:20260424T024355
DTSTART:20220328T183000
DTEND:20220328T183000
SUMMARY:Caminem junts per... Ucraïna. Acte inaugural
LOCATION:Infantil i Primària: Av. Josep Fontcuberta, 166 / ESO i Batxillerat: Av. Pi i Margall, 157 08140 Caldes de Montbui
METHOD:PUBLISH
X-WR-CALNAME:caldesm@caldesdemontbui.cat
X-WR-TIMEZONE:Europe/Madrid
DESCRIPTION:Setmana d'activitats divulgatives i benèfiques

URI:https://www.caldesdemontbui.cat/actualitat/agenda/caminem-junts-per-ucraina-acte-inaugural.html
CLASS:PUBLIC
END:VEVENT
END:VCALENDAR
