BEGIN:VCALENDAR
VERSION:2.0
CALSCALE:GREGORIAN
PRODID:-//Diputació de Barcelona//DibaCMS//EN
BEGIN:VEVENT
UID:23774
DTSTAMP:20260424T025258
DTSTART:20220319T150000
DTEND:20220319T150000
SUMMARY:Festa sis nacions. Touch Rugby Centre Caldes de Montbui
LOCATION:
METHOD:PUBLISH
X-WR-CALNAME:caldesm@caldesdemontbui.cat
X-WR-TIMEZONE:Europe/Madrid
DESCRIPTION:
URI:https://www.caldesdemontbui.cat/actualitat/agenda/festa-sis-nacions-touch-rugby-centre-caldes-de-montbui.html
CLASS:PUBLIC
END:VEVENT
END:VCALENDAR
