BEGIN:VCALENDAR
VERSION:2.0
CALSCALE:GREGORIAN
PRODID:-//Diputació de Barcelona//DibaCMS//EN
BEGIN:VEVENT
UID:23752
DTSTAMP:20260424T024537
DTSTART:20220320T170000
DTEND:20220320T200000
SUMMARY:Mercat de l'Olla 2022: Activitats infantils: Careta llaminera / Gimcana saludable / Espai jocs
LOCATION:
METHOD:PUBLISH
X-WR-CALNAME:caldesm@caldesdemontbui.cat
X-WR-TIMEZONE:Europe/Madrid
DESCRIPTION:
URI:https://www.caldesdemontbui.cat/actualitat/agenda/mercat-de-lolla-2022-activitats-infantils-careta-llaminera--gimcana-saludable--espai-jocs.html
CLASS:PUBLIC
END:VEVENT
END:VCALENDAR
