BEGIN:VCALENDAR
VERSION:2.0
CALSCALE:GREGORIAN
PRODID:-//Diputació de Barcelona//DibaCMS//EN
BEGIN:VEVENT
UID:23750
DTSTAMP:20260424T042850
DTSTART:20220320T120000
DTEND:20220320T140000
SUMMARY:Mercat de l'Olla 2022: Olles i ràdio
LOCATION:
METHOD:PUBLISH
X-WR-CALNAME:caldesm@caldesdemontbui.cat
X-WR-TIMEZONE:Europe/Madrid
DESCRIPTION:
URI:https://www.caldesdemontbui.cat/actualitat/agenda/mercat-de-lolla-2022-olles-i-radio.html
CLASS:PUBLIC
END:VEVENT
END:VCALENDAR
